BEGIN:VCALENDAR
VERSION:2.0
PRODID:-//BioForum - ECPv6.15.13.1//NONSGML v1.0//EN
CALSCALE:GREGORIAN
METHOD:PUBLISH
X-ORIGINAL-URL:https://cebioforum.com
X-WR-CALDESC:Events for BioForum
REFRESH-INTERVAL;VALUE=DURATION:PT1H
X-Robots-Tag:noindex
X-PUBLISHED-TTL:PT1H
BEGIN:VTIMEZONE
TZID:UTC
BEGIN:STANDARD
TZOFFSETFROM:+0000
TZOFFSETTO:+0000
TZNAME:UTC
DTSTART:20250101T000000
END:STANDARD
END:VTIMEZONE
BEGIN:VEVENT
DTSTART;TZID=UTC:20260707T000000
DTEND;TZID=UTC:20260710T235959
DTSTAMP:20260420T151102
CREATED:20260205T205146Z
LAST-MODIFIED:20260205T205148Z
UID:11961-1783382400-1783727999@cebioforum.com
SUMMARY:AIME 2026
DESCRIPTION:AIME 2026\n\n\n\n\n\n\n\n\n\n\n\n\n\nThe International Conference on Artificial Intelligence in Medicine (AIME) has served as a foundational gathering for the global AI-in-health community for over 40 years. Its goals remain deeply relevant today: \n\n\n\n\nto foster both fundamental and applied research on the use of artificial intelligence in medical care and biomedical science\, and\n\n\n\nto provide a recurring international forum for the presentation\, discussion\, and dissemination of significant scientific results.
URL:https://cebioforum.com/event/aime-2026/
LOCATION:Ottawa\, Ottawa\, Canada
CATEGORIES:FUTURE
ATTACH;FMTTYPE=image/png:https://cebioforum.com/wp-content/uploads/2026/02/aime.png
END:VEVENT
BEGIN:VEVENT
DTSTART;TZID=UTC:20260726T000000
DTEND;TZID=UTC:20260730T235959
DTSTAMP:20260420T151102
CREATED:20260204T201229Z
LAST-MODIFIED:20260204T201231Z
UID:11882-1785024000-1785455999@cebioforum.com
SUMMARY:IEEE EMBC 2026
DESCRIPTION:IEEE Engineering in Medicine and Biology Society\n\n\n\n\n\n\n\n\n\nAs the world’s leading forum for biomedical engineering and healthcare innovation\, the conference will convene researchers\, clinicians\, academics\, and industry leaders to exchange knowledge\, present pioneering research\, and foster collaborations. This year’s theme is Engineer Sustainable and Equitable Healthcare.
URL:https://cebioforum.com/event/ieee-embc-2026/
LOCATION:Toronto\, Toronto\, Canada
CATEGORIES:FUTURE
ATTACH;FMTTYPE=image/png:https://cebioforum.com/wp-content/uploads/2026/02/ieee.png
END:VEVENT
END:VCALENDAR