BEGIN:VCALENDAR
VERSION:2.0
PRODID:-//BioForum - ECPv6.15.13.1//NONSGML v1.0//EN
CALSCALE:GREGORIAN
METHOD:PUBLISH
X-ORIGINAL-URL:https://cebioforum.com
X-WR-CALDESC:Events for BioForum
REFRESH-INTERVAL;VALUE=DURATION:PT1H
X-Robots-Tag:noindex
X-PUBLISHED-TTL:PT1H
BEGIN:VTIMEZONE
TZID:UTC
BEGIN:STANDARD
TZOFFSETFROM:+0000
TZOFFSETTO:+0000
TZNAME:UTC
DTSTART:20220101T000000
END:STANDARD
END:VTIMEZONE
BEGIN:VEVENT
DTSTART;TZID=UTC:20230904T090000
DTEND;TZID=UTC:20230906T170000
DTSTAMP:20260422T225226
CREATED:20230829T100557Z
LAST-MODIFIED:20230908T132022Z
UID:5835-1693818000-1694019600@cebioforum.com
SUMMARY:PORT for Health Neuroscience 2023
DESCRIPTION:PORT FOR HEALTH NEUROSCIENCE 2023\n\n\n\n\n\n\n\n\n\n \n\n\n\n“PORT for Health” is an annual conference series focused on life sciences that brings together scientists\, medical practitioners and industry professionals. Each year the conference discusses a specific scientific topic that is important within the broad landscape of modern biomedical science and has strong implications for human health with an alternating biennial schedule focusing either on neuroscience or oncology. Themes discussed at the meeting include the fundamental molecular mechanisms\, development of physiological models of human disease\, finding of new drug targets and opportunities for novel targeted treatments in personalised medicine.\n\n\n\n\n\nThe 2023 edition of #PORTforHealth conference focuses on biological models and computational approaches to understand brain disorders. Participants will have the opportunity to listen to over 20 lectures presenting the latest research findings and achievements in the field of neuropsychiatry\, neurodegeneration\, and neuro-metabolic disorders. \n\n\n\n\n\nThe organizer behind #PORTforHealth is Łukasiewicz Research Network – PORT Polish Center for Technology Development\, located in #Wrocław. The Life Sciences and Biotechnology Center at Łukasiewicz – PORT is committed to addressing the most pressing challenges of modern medicine through cutting-edge translational research conducted by teams led by visionary and experienced leaders. \n\n\n\n\n\nREGISTRATION ONLY UNTIL AUGUST 31! \n\n\n\n\nFIND OUT MORE\n\n\n\nREGISTER
URL:https://cebioforum.com/event/port-for-health-neuroscience-2023/
LOCATION:WROCŁAW\, Stablowicka 147\, Wrocław\, Poland
CATEGORIES:PAST
ATTACH;FMTTYPE=image/png:https://cebioforum.com/wp-content/uploads/2023/08/Port-for-health-1.png
END:VEVENT
BEGIN:VEVENT
DTSTART;TZID=UTC:20230618T080000
DTEND;TZID=UTC:20230619T170000
DTSTAMP:20260422T225226
CREATED:20230523T125217Z
LAST-MODIFIED:20230621T093547Z
UID:5161-1687075200-1687194000@cebioforum.com
SUMMARY:Science: Polish Perspectives Meetup Paris
DESCRIPTION:Science: Polish Perspectives Meetup Paris\n\n\n\n\n\n\n\n\n\nCome and join us in the “City of Lights” for a unique\, empowering\, and distinguished event on Women in Science and Business!\n\n\n\nSPP Meetup Paris came together as a result of the Polonium Foundation initiative supported by Polish Academy of Sciences Scientific Center in Paris\, the Polish Investment and Trade Agency\, The Emigration Museum in Gdynia\, and the Embassy of Poland in Paris. The meetup will be held on the 18th-19th of June 2023 in Paris\, France. \n\n\n\nWe extend the invitation to all researchers living in France and neighbouring countries\, with both Polish and non-Polish origin\, to join our initiative. This event will be conducted in English and we welcome participants of all nationalities. The meetup will be an ample opportunity for all participants to get familiar with the fusion of Science & Business. It will connect researchers and professionals from both academia and industry. Representatives of all scientific disciplines are strongly encouraged to participate. \n\n\n\nMaria Skłodowska-Curie\, the Patroness of our Foundation\, undoubtedly obliges the SPP Meetup Paris to focus the light on strong\, independent\, and bright Women in Science. Thus\, for the time of this event\, the stage will be occupied by the female speakers\, their wisdom and knowledge shared with the all-gender audience. \n\n\n\nKeep calm and Curie on! \n\n\n\nREGISTRATION FOR THE EVENT IS CLOSED!
URL:https://cebioforum.com/event/science-polish-perspectives-meetup-paris/
LOCATION:Paris\, Paris\, France
CATEGORIES:PAST
ATTACH;FMTTYPE=image/png:https://cebioforum.com/wp-content/uploads/2023/05/Meetup-Paris_v3.png
END:VEVENT
BEGIN:VEVENT
DTSTART;TZID=UTC:20230605T080000
DTEND;TZID=UTC:20230608T170000
DTSTAMP:20260422T225226
CREATED:20230519T091802Z
LAST-MODIFIED:20230612T095538Z
UID:5127-1685952000-1686243600@cebioforum.com
SUMMARY:BIO International Convention
DESCRIPTION:BIO International Convention\n\n\n\n\n\n\n\n\n\n🎯 The Association of Biotechnology Companies BioForum became the Strategic Partner of the national stand during the BIO Convention 2023!\n\n\n\nBelow are the short points for which it is worth attending BioConvention 2023 (5-8/06/2023 Boston\, USA).\n\n\n\nWe would like to invite all Polish biotechnology companies to participate in the conference\, which is one of the most important conferences on the #biotech market in the world.\n\n\n\nThis is the most important fair gathering companies related to the implementation of biotechnological solutions from around the world\, which:✅ provide services based on biomedical analyzes (so-called CRO and CDMO)\,✅ are representatives of clusters of biotechnology companies from around the world – mid size & big pharma✅ minor biotechnology companies from very different fields – representatives of investment funds✅ representatives of companies in the field of business development \n\n\n\nIn 2022\, the conference (see summary here) gathered 12\,000 participants\, of which 8\,000 could be arranged (via the platform) for face-to-face meetings in order to hold meetings on more targeted topics. Thanks to this\, EVERY company\, regardless of the business profile\, will find international business partners \n\n\n\nApplications for co-creation of the stand via the recruitment form of the Polish Investment and Trade Agency are accepted until February 28\, 2023. \n\n\n\nApplications for co-creation of the stand via the recruitment form of the Polish Investment and Trade Agency are accepted until February 28\, 2023.\n\n\n\n📆 Let’s meet in Boston during the BIO Convention 2023 on June 5-8!\n\n\n\n\n\n\n\n\n\n\n\n\n\n\n\n\n\n\nPAIH has created a catalog of companiesand institutions present at thePOLISH NATIONAL STAND!
URL:https://cebioforum.com/event/bio-international-convention/
LOCATION:Boston\, Boston\, Massachusetts\, United States
CATEGORIES:PAST
ATTACH;FMTTYPE=image/png:https://cebioforum.com/wp-content/uploads/2023/05/Kopia-A_BioForum-na-BioCOnvention2023.png
END:VEVENT
BEGIN:VEVENT
DTSTART;TZID=UTC:20230512T080000
DTEND;TZID=UTC:20230514T170000
DTSTAMP:20260422T225226
CREATED:20230607T132252Z
LAST-MODIFIED:20230607T134653Z
UID:5441-1683878400-1684083600@cebioforum.com
SUMMARY:Intercollegiate Biotechnology Symposium “Symbioza”
DESCRIPTION:10th Intercollegiate Biotechnology Symposium “Symbioza”\n\n\n\n\n\n\n\n\n\nWe understand how important it is to cooperate with young and motivatedbiotechnology students as they are the future of biotech development.\n\n\n\nThats why dr Magdalena Kulczycka – Director of BioForum will share her experience during thepanel “Challenges of the biotech industry in Central Europe in the context of choosing a career path”\n\n\n\nJOIN us for the 10th anniversary edition of the Intercollegiate Biotechnology Symposium “Symbioza”held by Warsaw Society of Biotechnology “Symbioza”.\n\n\n\nThe conference will take place on May 12-14\, 2023 in Warsaw\, Poland.\n\n\n\nThis international conference is a great start for all students\, doctoral students and scientiststo present your work\, expand your knowledge and develop network.
URL:https://cebioforum.com/event/intercollegiate-biotechnology-symposium-symbioza/
LOCATION:Boston\, Boston\, Massachusetts\, United States
CATEGORIES:PAST
ATTACH;FMTTYPE=image/png:https://cebioforum.com/wp-content/uploads/2023/06/Bez-tytulu-1024×926-px.png
END:VEVENT
BEGIN:VEVENT
DTSTART;TZID=UTC:20230418T080000
DTEND;TZID=UTC:20230419T170000
DTSTAMP:20260422T225226
CREATED:20230607T125645Z
LAST-MODIFIED:20230607T135657Z
UID:5438-1681804800-1681923600@cebioforum.com
SUMMARY:CEBioForum 2023
DESCRIPTION:The 21st edition of CEBioForum is behind us. It’s time to sum up the conference:\n\n\n\n✅ This year the conference gathered nearly 400 attendees from 165 different institutions and companies \n\n\n\n✅ Participants came from 14 countries✅ We listened to: \n\n\n\n\n5 panel discussions\n\n\n\n16 Biotech Pitch and Presentation\n\n\n\n6 lectures\n\n\n\n\n✅ We honoured the CEBioForum Awards 2023 in 3 categories \n\n\n\nWe would like to thank all partners\, exhibitors\, speakers and participants for their active and positive participation in CEBioForum 2023! \n\n\n\nIt’s for you and thanks to you that we create this event! See you in the next edition.
URL:https://cebioforum.com/event/cebioforum-2024/
LOCATION:CIC Warsaw\, Chmielna 73\, Warszawa\, Poland
CATEGORIES:PAST
ATTACH;FMTTYPE=image/png:https://cebioforum.com/wp-content/uploads/2023/06/save_your_spot-1200x800-1.png
ORGANIZER;CN="Zwi%C4%85zek Firm Biotechnologicznych BioForum":MAILTO:kontakt@cebioforum.com
END:VEVENT
END:VCALENDAR