BEGIN:VCALENDAR
VERSION:2.0
PRODID:-//BioForum - ECPv6.15.13.1//NONSGML v1.0//EN
CALSCALE:GREGORIAN
METHOD:PUBLISH
X-WR-CALNAME:BioForum
X-ORIGINAL-URL:https://cebioforum.com
X-WR-CALDESC:Events for BioForum
REFRESH-INTERVAL;VALUE=DURATION:PT1H
X-Robots-Tag:noindex
X-PUBLISHED-TTL:PT1H
BEGIN:VTIMEZONE
TZID:UTC
BEGIN:STANDARD
TZOFFSETFROM:+0000
TZOFFSETTO:+0000
TZNAME:UTC
DTSTART:20250101T000000
END:STANDARD
END:VTIMEZONE
BEGIN:VEVENT
DTSTART;TZID=UTC:20260323T000000
DTEND;TZID=UTC:20260324T235959
DTSTAMP:20260422T105000
CREATED:20260309T130921Z
LAST-MODIFIED:20260326T083226Z
UID:12318-1774224000-1774396799@cebioforum.com
SUMMARY:DIA Europe 2026
DESCRIPTION:DIA Europe 2026\n\n\n\n\n\n\n\n\n\nLIFT Start-Up Accelerator Programme\n\n\n\nEmpowering early-stage health innovators for market success\n\n\n\nAre you ready to take your innovation to the next stage?  \n\n\n\nDesigned for health innovators\, spin-offs\, and biotech start-ups\, the LIFT Start-Up Accelerator Programme at DIA Europe 2026 connects early-stage teams with the people\, insight\, and visibility needed to move from concept to real-world impact. \n\n\n\n\n Join a focused environment built for meaningful exchange\, bringing together start-ups\, venture capitalists\, investors\, regulators\, HTA bodies\, and industry leaders. \n\n\n\n\n\n Gain direct access to decision-makers and practical insight into regulatory\, clinical\, and investment pathways through targeted sessions led by high-profile speakers – while building visibility across the extensive DIA network.\n\n\n\n\n Connect with the life science ecosystem at the DIA Europe Annual Meeting through your special start-up ticket.  \n\n\n\nBioForum became a partner of the DIA Europe 2026 Annual Meeting and LIFT Start-Up Accelerator Programme!
URL:https://cebioforum.com/event/dia-europe-2026/
LOCATION:Rotterdam DIA\, Ahoy\, Ahoyweg 10\, 3084 BA\, Rotterdam\, Netherlands
CATEGORIES:PAST
ATTACH;FMTTYPE=image/png:https://cebioforum.com/wp-content/uploads/2026/03/dia-event.png
END:VEVENT
BEGIN:VEVENT
DTSTART;TZID=UTC:20260323T000000
DTEND;TZID=UTC:20260325T235959
DTSTAMP:20260422T105000
CREATED:20260114T143514Z
LAST-MODIFIED:20260326T083232Z
UID:11561-1774224000-1774483199@cebioforum.com
SUMMARY:BIO-Europe Spring
DESCRIPTION:BIO-Europe Spring\n\n\n\n\n\n\n\n\n\n\n\n\n\nEurope’s fundamental science is its competitive edge. And right now\, it needs visibility\, partners\, and investment more than ever. \n\n\n\nFor the first time\, BIO-Europe Spring and LSX Europe will take place back-to-back in Lisbon in March 2026\, creating the most comprehensive meeting point for the life science innovation lifecycle.
URL:https://cebioforum.com/event/bio-europe-spring-2/
LOCATION:Lisbon\, Lisbon\, Portugal
CATEGORIES:PAST
ATTACH;FMTTYPE=image/png:https://cebioforum.com/wp-content/uploads/2026/01/bes.png
END:VEVENT
BEGIN:VEVENT
DTSTART;TZID=UTC:20260326T000000
DTEND;TZID=UTC:20260326T235959
DTSTAMP:20260422T105000
CREATED:20251113T115039Z
LAST-MODIFIED:20260326T083239Z
UID:11237-1774483200-1774569599@cebioforum.com
SUMMARY:Innovation for Health 2026
DESCRIPTION:Innovation for Health 2026\n\n\n\n\n\n\n\n\n\nJoin us on 26 March\, 2026\, in Utrecht for the 13th edition of Innovation for Health\, theleading event in Health & Life Sciences. This year’s theme\, Bridging the Gap\, will bringtogether 800+ innovators\, entrepreneurs\, scientists\, investors\, and policymakers toaccelerate the development of healthcare solutions that will shape the future.\n\n\n\nWhy attend?Innovation for Health 2026 is a must-attend event for anyone looking to stay ahead of the latest of the latest trends in healthcare innovation. Attendees will gain insights from industry experts who are shaping the future of Health and Life Sciences. It is also a great opportunity to meet and connect with key players across the industry\, from innovators and investors to policymakers and thought leaders. \n\n\n\nStrengthen your network and build new collaboration by interacting with attendees and exhibitors during the full day program! \n\n\n\nEvent highlights \n\n\n\n\nEngaging program featuring the latest trends and advancements in the Life Sciences landscape\n\n\n\nInteractive sessions and workshops designed to foster collaboration and knowledge exchange among attendees\n\n\n\nNetworking opportunities throughout the day\, including access to an exclusive VIP dinner\n\n\n\nOne-on-one meetings with Innovation for Health attendees via partneringOne\n\n\n\n\nProgrammeSee the full conference programme here and the confirmed speakers via this link. For more information\, visit:
URL:https://cebioforum.com/event/innovation-for-health-2026/
LOCATION:Vilnius\, Vilnius\, Lithuania
CATEGORIES:PAST
ATTACH;FMTTYPE=image/jpeg:https://cebioforum.com/wp-content/uploads/2025/11/f6882606521b48f5b38daa2b368decc1-scaled.jpeg
END:VEVENT
END:VCALENDAR