BEGIN:VCALENDAR
VERSION:2.0
PRODID:-//BioForum - ECPv6.15.13.1//NONSGML v1.0//EN
CALSCALE:GREGORIAN
METHOD:PUBLISH
X-ORIGINAL-URL:https://cebioforum.com
X-WR-CALDESC:Events for BioForum
REFRESH-INTERVAL;VALUE=DURATION:PT1H
X-Robots-Tag:noindex
X-PUBLISHED-TTL:PT1H
BEGIN:VTIMEZONE
TZID:UTC
BEGIN:STANDARD
TZOFFSETFROM:+0000
TZOFFSETTO:+0000
TZNAME:UTC
DTSTART:20250101T000000
END:STANDARD
END:VTIMEZONE
BEGIN:VEVENT
DTSTART;TZID=UTC:20260309T000000
DTEND;TZID=UTC:20260312T235959
DTSTAMP:20260420T085209
CREATED:20260205T203207Z
LAST-MODIFIED:20260326T083138Z
UID:11950-1773014400-1773359999@cebioforum.com
SUMMARY:HIMSS26 Global Health Conference & Exhibition
DESCRIPTION:HIMSS26 Global Health Conference & Exhibition\n\n\n\n\n\n\n\n\n\n\n\n\n\nOne of the largest global healthcare innovation gatherings\, HIMSS brings together thousands of professionals across digital health\, clinical care\, system executives\, payers\, policy-makers\, and tech innovators. The program includes 600+ education sessions\, keynotes\, exhibits of next-gen technology\, investor programs and matched networking opportunities. 
URL:https://cebioforum.com/event/himss26-global-health-conference-exhibition/
LOCATION:Las Vegas\, Las Vegas\, United States
CATEGORIES:PAST
ATTACH;FMTTYPE=image/png:https://cebioforum.com/wp-content/uploads/2026/02/himss.png
END:VEVENT
BEGIN:VEVENT
DTSTART;TZID=UTC:20260312T000000
DTEND;TZID=UTC:20260313T235959
DTSTAMP:20260420T085209
CREATED:20260204T203710Z
LAST-MODIFIED:20260326T083145Z
UID:11896-1773273600-1773446399@cebioforum.com
SUMMARY:Kongres Wyzwań Zdrowotnych
DESCRIPTION:XI Kongres Wyzwań Zdrowotnych\n\n\n\n\n\n\n\n\n\nKongres Wyzwań Zdrowotnych to jedno z najważniejszych wydarzeń łączących liderów\, ekspertów i praktyków systemu ochrony zdrowia w Polsce. Każdego roku w Kongresie uczestniczą tysiące osób reprezentujących wszystkie kluczowe środowiska – od medycyny klinicznej i zdrowia publicznego\, przez administrację i samorządy\, po biznes\, naukę i organizacje pacjenckie.
URL:https://cebioforum.com/event/kongres-wyzwan-zdrowotnych/
LOCATION:Międzynarodowe Centrum Kongresowe w Katowicach\, Katowice\, Poland
CATEGORIES:PAST
ATTACH;FMTTYPE=image/png:https://cebioforum.com/wp-content/uploads/2026/02/kwz.png
END:VEVENT
END:VCALENDAR