BEGIN:VCALENDAR
VERSION:2.0
PRODID:-//BioForum - ECPv6.15.13.1//NONSGML v1.0//EN
CALSCALE:GREGORIAN
METHOD:PUBLISH
X-WR-CALNAME:BioForum
X-ORIGINAL-URL:https://cebioforum.com
X-WR-CALDESC:Events for BioForum
REFRESH-INTERVAL;VALUE=DURATION:PT1H
X-Robots-Tag:noindex
X-PUBLISHED-TTL:PT1H
BEGIN:VTIMEZONE
TZID:UTC
BEGIN:STANDARD
TZOFFSETFROM:+0000
TZOFFSETTO:+0000
TZNAME:UTC
DTSTART:20250101T000000
END:STANDARD
END:VTIMEZONE
BEGIN:VEVENT
DTSTART;TZID=UTC:20260211T000000
DTEND;TZID=UTC:20260212T235959
DTSTAMP:20260420T100749
CREATED:20260205T210048Z
LAST-MODIFIED:20260326T083120Z
UID:11966-1770768000-1770940799@cebioforum.com
SUMMARY:Bio360 Europe
DESCRIPTION:Bio360 Europe\n\n\n\n\n\n\n\n\n\n\n\n\n\nBio360 is the annual meeting place where those focused on achieving the transition from fossil-based energy and production lines to bioenergy and biobased molecules and building blocks for a sustainable\, circular economy converge and congregate. It is the hub for the movers and shakers of the biotransition.
URL:https://cebioforum.com/event/bio360-europe/
LOCATION:Nantes\, Nantes\, France
CATEGORIES:PAST
ATTACH;FMTTYPE=image/png:https://cebioforum.com/wp-content/uploads/2026/02/bio360.png
END:VEVENT
END:VCALENDAR