BEGIN:VCALENDAR
VERSION:2.0
PRODID:-//BioForum - ECPv6.15.13.1//NONSGML v1.0//EN
CALSCALE:GREGORIAN
METHOD:PUBLISH
X-WR-CALNAME:BioForum
X-ORIGINAL-URL:https://cebioforum.com
X-WR-CALDESC:Events for BioForum
REFRESH-INTERVAL;VALUE=DURATION:PT1H
X-Robots-Tag:noindex
X-PUBLISHED-TTL:PT1H
BEGIN:VTIMEZONE
TZID:UTC
BEGIN:STANDARD
TZOFFSETFROM:+0000
TZOFFSETTO:+0000
TZNAME:UTC
DTSTART:20240101T000000
END:STANDARD
END:VTIMEZONE
BEGIN:VEVENT
DTSTART;TZID=UTC:20251204T000000
DTEND;TZID=UTC:20251206T235959
DTSTAMP:20260420T133616
CREATED:20250129T224909Z
LAST-MODIFIED:20260326T083052Z
UID:9394-1764806400-1765065599@cebioforum.com
SUMMARY:RESI London
DESCRIPTION:RESI London\n\n\n\n\n\n\n\n\n\n\n\n\n\nGenesis 2024 and RESI London come together for a collaborative event\, providing a unique platform for early-stage life science companies\, investors\, and licensing partners to connect. Under the theme “Maximising Returns from Life Science Innovation\,” the event offers an engaging mix of in-person and virtual networking opportunities.
URL:https://cebioforum.com/event/resi-london/
LOCATION:London\, London\, United Kingdom
CATEGORIES:PAST
ATTACH;FMTTYPE=image/png:https://cebioforum.com/wp-content/uploads/2025/01/RESI-London-–-RESI-Conference.png
END:VEVENT
END:VCALENDAR