BEGIN:VCALENDAR
VERSION:2.0
PRODID:-//BioForum - ECPv6.15.13.1//NONSGML v1.0//EN
CALSCALE:GREGORIAN
METHOD:PUBLISH
X-WR-CALNAME:BioForum
X-ORIGINAL-URL:https://cebioforum.com
X-WR-CALDESC:Events for BioForum
REFRESH-INTERVAL;VALUE=DURATION:PT1H
X-Robots-Tag:noindex
X-PUBLISHED-TTL:PT1H
BEGIN:VTIMEZONE
TZID:UTC
BEGIN:STANDARD
TZOFFSETFROM:+0000
TZOFFSETTO:+0000
TZNAME:UTC
DTSTART:20240101T000000
END:STANDARD
END:VTIMEZONE
BEGIN:VEVENT
DTSTART;TZID=UTC:20251127T090000
DTEND;TZID=UTC:20251127T210000
DTSTAMP:20260420T151714
CREATED:20251112T103456Z
LAST-MODIFIED:20260326T083037Z
UID:11227-1764234000-1764277200@cebioforum.com
SUMMARY:LITHUANIAN – POLAND LIFE SCIENCE & BIOTECH ECOSYSTEMS SUMMIT
DESCRIPTION:LITHUANIAN – POLAND LIFE SCIENCE & BIOTECH ECOSYSTEMS SUMMIT\n\n\n\n\n\n\n\n\n\nThe Lithuania-Poland Life Sciences & Biotech Ecosystems Summit in Vilnius is a strategic initiative to strengthen cross-border collaboration between two of Central and Eastern Europe’s most dynamic life sciences hubs.\n\n\n\nThis event will bring together leaders from academia\, industry\, government\, and investment to foster stronger links between science and business. With the ambition to position Lithuania and Poland as a joint powerhouse in European biotechnology\, the summit will focus on building an integrated value chain – from research and development to biomanufacturing and market access. \n\n\n\nThe program will explore key topics such as technology transfer\, startup support\, and investment readiness\, aiming to identify practical pathways for co-development and long-term collaboration across both ecosystems. \n\n\n\nAssociation of Biotechnology Companies BioForum is a proud Partner of the event!
URL:https://cebioforum.com/event/lithuanian-poland-life-science-biotech-ecosystems-summit/
LOCATION:Vilnius\, Vilnius\, Lithuania
CATEGORIES:PAST
ATTACH;FMTTYPE=image/webp:https://cebioforum.com/wp-content/uploads/2025/11/img.webp
END:VEVENT
END:VCALENDAR