BEGIN:VCALENDAR
VERSION:2.0
PRODID:-//BioForum - ECPv6.15.13.1//NONSGML v1.0//EN
CALSCALE:GREGORIAN
METHOD:PUBLISH
X-ORIGINAL-URL:https://cebioforum.com
X-WR-CALDESC:Events for BioForum
REFRESH-INTERVAL;VALUE=DURATION:PT1H
X-Robots-Tag:noindex
X-PUBLISHED-TTL:PT1H
BEGIN:VTIMEZONE
TZID:UTC
BEGIN:STANDARD
TZOFFSETFROM:+0000
TZOFFSETTO:+0000
TZNAME:UTC
DTSTART:20240101T000000
END:STANDARD
END:VTIMEZONE
BEGIN:VEVENT
DTSTART;TZID=UTC:20251027T000000
DTEND;TZID=UTC:20251029T235959
DTSTAMP:20260420T152514
CREATED:20250708T154336Z
LAST-MODIFIED:20251030T102627Z
UID:10799-1761523200-1761782399@cebioforum.com
SUMMARY:Deep Tech CEE Summit 2025
DESCRIPTION:Deep Tech CEE Summit 2025\n\n\n\n\n\n\n\n\n\n\n\nUNLOCKING THE POWER OF DEEP TECH TO SCALE THE POTENTIAL OF THE CEE REGION! \n\n\n\nWe connect and educate private investors looking for unique projects\, startup founders in need of new team competencies and funding\, managers and project managers open to new business challenges\, researchers interested in creating and developing companies based on R&D work\, entrepreneurs looking for new business projects and international partners willing to cooperate with the Polish Deep Tech ecosystem.
URL:https://cebioforum.com/event/deep-tech-cee-summit-2025/
LOCATION:Warsaw\, Warsaw\, Poland
CATEGORIES:PAST
ATTACH;FMTTYPE=image/jpeg:https://cebioforum.com/wp-content/uploads/2025/07/deeptechceesummit.jpg
END:VEVENT
BEGIN:VEVENT
DTSTART;TZID=UTC:20251028T000000
DTEND;TZID=UTC:20251030T235959
DTSTAMP:20260420T152514
CREATED:20250129T224742Z
LAST-MODIFIED:20251030T102635Z
UID:9367-1761609600-1761868799@cebioforum.com
SUMMARY:CPHI Worldwide
DESCRIPTION:CPHI Worldwide\n\n\n\n\n\n\n\n\n\n\n\n\n\nCPHI Frankfurt is a premier global event for pharmaceutical professionals\, offering year-round networking and learning opportunities through its online platform\, culminating in a dynamic in-person gathering. The event brings together thousands of industry leaders to foster innovation\, collaboration\, and business growth at the heart of the pharma industry.
URL:https://cebioforum.com/event/cphi-worldwide/
LOCATION:Frankfurt\, Frankfurt\, Germany
CATEGORIES:PAST
ATTACH;FMTTYPE=image/png:https://cebioforum.com/wp-content/uploads/2025/01/At-the-heart-of-Pharma-CPHI-Frankfurt.png
END:VEVENT
END:VCALENDAR