BEGIN:VCALENDAR
VERSION:2.0
PRODID:-//BioForum - ECPv6.15.13.1//NONSGML v1.0//EN
CALSCALE:GREGORIAN
METHOD:PUBLISH
X-WR-CALNAME:BioForum
X-ORIGINAL-URL:https://cebioforum.com
X-WR-CALDESC:Events for BioForum
REFRESH-INTERVAL;VALUE=DURATION:PT1H
X-Robots-Tag:noindex
X-PUBLISHED-TTL:PT1H
BEGIN:VTIMEZONE
TZID:UTC
BEGIN:STANDARD
TZOFFSETFROM:+0000
TZOFFSETTO:+0000
TZNAME:UTC
DTSTART:20240101T000000
END:STANDARD
END:VTIMEZONE
BEGIN:VEVENT
DTSTART;TZID=UTC:20250821T000000
DTEND;TZID=UTC:20250823T235959
DTSTAMP:20260422T174101
CREATED:20250129T223212Z
LAST-MODIFIED:20250910T104207Z
UID:9357-1755734400-1755993599@cebioforum.com
SUMMARY:11th International Conference on Bioengineering and Biosciences
DESCRIPTION:11th International Conference on Bioengineering and Biosciences\n\n\n\n\n\n\n\n\n\n\n\n\n\nThe 10th International Conference on Bioengineering and Biotechnology (ICBB 2025) is a premier annual event that gathers global scholars to present advancements and foster collaboration in bioengineering and biotechnology. The conference provides a dynamic platform for exchanging ideas\, forming new collaborations\, and engaging with experts in both foundational and applied aspects of the field.
URL:https://cebioforum.com/event/11th-international-conference-on-bioengineering-and-biosciences/
LOCATION:Paris\, Paris\, France
CATEGORIES:PAST
ATTACH;FMTTYPE=image/png:https://cebioforum.com/wp-content/uploads/2025/01/ICBB-2025-11th-International-Conference-on-Bioengineering-and-Biotechnology.png
END:VEVENT
END:VCALENDAR