BEGIN:VCALENDAR
VERSION:2.0
PRODID:-//BioForum - ECPv6.15.13.1//NONSGML v1.0//EN
CALSCALE:GREGORIAN
METHOD:PUBLISH
X-WR-CALNAME:BioForum
X-ORIGINAL-URL:https://cebioforum.com
X-WR-CALDESC:Events for BioForum
REFRESH-INTERVAL;VALUE=DURATION:PT1H
X-Robots-Tag:noindex
X-PUBLISHED-TTL:PT1H
BEGIN:VTIMEZONE
TZID:UTC
BEGIN:STANDARD
TZOFFSETFROM:+0000
TZOFFSETTO:+0000
TZNAME:UTC
DTSTART:20250101T000000
END:STANDARD
END:VTIMEZONE
BEGIN:VEVENT
DTSTART;TZID=UTC:20260121T000000
DTEND;TZID=UTC:20260122T235959
DTSTAMP:20260420T101051
CREATED:20260114T144154Z
LAST-MODIFIED:20260326T083102Z
UID:11566-1768953600-1769126399@cebioforum.com
SUMMARY:Pharmapack 2026
DESCRIPTION:Pharmapack 2026\n\n\n\n\n\n\n\n\n\n\n\n\n\nPharmapack is the leading European event for Pharmaceutical Packaging\, Drug Delivery\, Medical Devices and Machinery. In the past 25+ years\, the event has grown from a conference with a small table-top exhibition\, to an event hosting 300+ exhibitors and welcoming attendees from 75 different countries.
URL:https://cebioforum.com/event/pharmapack-2026/
LOCATION:Paris\, Paris\, France
CATEGORIES:PAST
ATTACH;FMTTYPE=image/png:https://cebioforum.com/wp-content/uploads/2026/01/pp.png
END:VEVENT
BEGIN:VEVENT
DTSTART;TZID=UTC:20260127T000000
DTEND;TZID=UTC:20260129T235959
DTSTAMP:20260420T101051
CREATED:20260212T175058Z
LAST-MODIFIED:20260212T175100Z
UID:12093-1769472000-1769731199@cebioforum.com
SUMMARY:mRNA-Based Therapeutics Summit Europe
DESCRIPTION:mRNA-Based Therapeutics Summit Europe\n\n\n\n\n\n\n\n\n\nThis summit is an ultimate biopharma platform diving into novel mRNA\, sa-RNA and circular RNA design to deliver innovations\, giving you the latest insights and connections to turn these breakthroughs into action.
URL:https://cebioforum.com/event/mrna-based-therapeutics-summit-europe/
LOCATION:Berlin\, Berlin\, Germany
CATEGORIES:PAST
ATTACH;FMTTYPE=image/png:https://cebioforum.com/wp-content/uploads/2026/02/mrbt.png
END:VEVENT
END:VCALENDAR