BEGIN:VCALENDAR
VERSION:2.0
PRODID:-//BioForum - ECPv6.15.13.1//NONSGML v1.0//EN
CALSCALE:GREGORIAN
METHOD:PUBLISH
X-ORIGINAL-URL:https://cebioforum.com
X-WR-CALDESC:Events for BioForum
REFRESH-INTERVAL;VALUE=DURATION:PT1H
X-Robots-Tag:noindex
X-PUBLISHED-TTL:PT1H
BEGIN:VTIMEZONE
TZID:UTC
BEGIN:STANDARD
TZOFFSETFROM:+0000
TZOFFSETTO:+0000
TZNAME:UTC
DTSTART:20250101T000000
END:STANDARD
END:VTIMEZONE
BEGIN:VEVENT
DTSTART;TZID=UTC:20260526T000000
DTEND;TZID=UTC:20260527T235959
DTSTAMP:20260420T085014
CREATED:20260212T171957Z
LAST-MODIFIED:20260212T171959Z
UID:12071-1779753600-1779926399@cebioforum.com
SUMMARY:Digital Health World Congress 2026
DESCRIPTION:Digital Health World Congress 2026\n\n\n\n\n\n\n\n\n\nDigital Health World Congress is the leading international conference on digital health\, which brings together innovators\, policymakers\, healthcare professionals\, and technology experts to shape the future of healthcare. Participants will gain insight into the latest innovations\, trends\, and best practices that make healthcare smarter\, more efficient\, and more accessible.
URL:https://cebioforum.com/event/digital-health-world-congress-2026/
LOCATION:London\, London\, United Kingdom
CATEGORIES:FUTURE
ATTACH;FMTTYPE=image/png:https://cebioforum.com/wp-content/uploads/2026/02/dtwc.png
END:VEVENT
BEGIN:VEVENT
DTSTART;TZID=UTC:20260527T000000
DTEND;TZID=UTC:20260528T235959
DTSTAMP:20260420T085014
CREATED:20260205T195923Z
LAST-MODIFIED:20260205T195925Z
UID:11939-1779840000-1780012799@cebioforum.com
SUMMARY:Digi-Tech Pharma & AI 2026
DESCRIPTION:Digi-Tech Pharma & AI 2026\n\n\n\n\n\n\n\n\n\n\n\n\n\nThe Digi-Tech Pharma & AI Conference is a leading platform uniting pharmaceutical and technology leaders\, healthcare innovators\, regulatory authorities and solution providers to explore the evolving digital landscape in pharma. This conference promotes collaboration and knowledge exchange\, enabling organizations to embrace innovation\, streamline operations\, and drive better patient outcomes.
URL:https://cebioforum.com/event/digi-tech-pharma-ai-2026/
LOCATION:London\, London\, United Kingdom
CATEGORIES:FUTURE
ATTACH;FMTTYPE=image/jpeg:https://cebioforum.com/wp-content/uploads/2026/02/dt.jpg
END:VEVENT
END:VCALENDAR