BEGIN:VCALENDAR
VERSION:2.0
PRODID:-//BioForum - ECPv6.15.13.1//NONSGML v1.0//EN
CALSCALE:GREGORIAN
METHOD:PUBLISH
X-WR-CALNAME:BioForum
X-ORIGINAL-URL:https://cebioforum.com
X-WR-CALDESC:Events for BioForum
REFRESH-INTERVAL;VALUE=DURATION:PT1H
X-Robots-Tag:noindex
X-PUBLISHED-TTL:PT1H
BEGIN:VTIMEZONE
TZID:UTC
BEGIN:STANDARD
TZOFFSETFROM:+0000
TZOFFSETTO:+0000
TZNAME:UTC
DTSTART:20250101T000000
END:STANDARD
END:VTIMEZONE
BEGIN:VEVENT
DTSTART;TZID=UTC:20260511T000000
DTEND;TZID=UTC:20260513T235959
DTSTAMP:20260420T084748
CREATED:20260205T194436Z
LAST-MODIFIED:20260205T194437Z
UID:11933-1778457600-1778716799@cebioforum.com
SUMMARY:CIMT Annual Meeting
DESCRIPTION:CIMT Annual Meeting 2026\n\n\n\n\n\n\n\n\n\n\n\n\n\nEvery year\, the CIMT Annual Meeting connects the global cancer immunotherapy community in the heart of Europe. As the largest meeting focused on cancer immunotherapy research and development in Europe\, CIMT invites international participants for high-level scientific exchange\, collaboration\, and education focused on cancer immunotherapy.
URL:https://cebioforum.com/event/cimt-annual-meeting-2/
LOCATION:Mainz\, Mainz\, Germany
CATEGORIES:FUTURE
ATTACH;FMTTYPE=image/png:https://cebioforum.com/wp-content/uploads/2026/02/cimt.png
END:VEVENT
END:VCALENDAR