BEGIN:VCALENDAR
VERSION:2.0
PRODID:-//BioForum - ECPv6.15.13.1//NONSGML v1.0//EN
CALSCALE:GREGORIAN
METHOD:PUBLISH
X-ORIGINAL-URL:https://cebioforum.com
X-WR-CALDESC:Events for BioForum
REFRESH-INTERVAL;VALUE=DURATION:PT1H
X-Robots-Tag:noindex
X-PUBLISHED-TTL:PT1H
BEGIN:VTIMEZONE
TZID:UTC
BEGIN:STANDARD
TZOFFSETFROM:+0000
TZOFFSETTO:+0000
TZNAME:UTC
DTSTART:20250101T000000
END:STANDARD
END:VTIMEZONE
BEGIN:VEVENT
DTSTART;TZID=UTC:20260622T000000
DTEND;TZID=UTC:20260625T235959
DTSTAMP:20260420T150032
CREATED:20260114T145527Z
LAST-MODIFIED:20260114T145528Z
UID:11574-1782086400-1782431999@cebioforum.com
SUMMARY:BIO International Convention
DESCRIPTION:BIO International Convention 2026\n\n\n\n\n\n\n\n\n\n\n\n\n\nThis is the force that unites us—not the pursuit of status or stability\, but the unwavering conviction to solve the impossible\, to push boundaries\, and to achieve better outcomes for patients\, public health\, and the world. BIO 2026 is where we return to this essential “why.” It is our opportunity to reconnect as a global community\, to recharge our commitment\, and to remember that behind every innovation is a shared mission: to improve lives.
URL:https://cebioforum.com/event/bio-international-convention-4/
LOCATION:San Diego Convention Center\, San Diego\, California\, United States
CATEGORIES:FUTURE
ATTACH;FMTTYPE=image/png:https://cebioforum.com/wp-content/uploads/2026/01/bic-1.png
END:VEVENT
END:VCALENDAR