BEGIN:VCALENDAR
VERSION:2.0
PRODID:-//BioForum - ECPv6.15.13.1//NONSGML v1.0//EN
CALSCALE:GREGORIAN
METHOD:PUBLISH
X-ORIGINAL-URL:https://cebioforum.com
X-WR-CALDESC:Events for BioForum
REFRESH-INTERVAL;VALUE=DURATION:PT1H
X-Robots-Tag:noindex
X-PUBLISHED-TTL:PT1H
BEGIN:VTIMEZONE
TZID:UTC
BEGIN:STANDARD
TZOFFSETFROM:+0000
TZOFFSETTO:+0000
TZNAME:UTC
DTSTART:20250101T000000
END:STANDARD
END:VTIMEZONE
BEGIN:VEVENT
DTSTART;TZID=UTC:20260617T000000
DTEND;TZID=UTC:20260620T235959
DTSTAMP:20260420T150039
CREATED:20260205T201143Z
LAST-MODIFIED:20260205T201145Z
UID:11942-1781654400-1781999999@cebioforum.com
SUMMARY:VivaTech 2026
DESCRIPTION:VivaTech 2026\n\n\n\n\n\n\n\n\n\n\n\n\n\nEach year\, over four exciting days in Paris\, VivaTech creates Europe’s biggest startup and tech event\, exploring the most disruptive topics in tech with world-premiere demos\, launches\, and conferences in a collaborative ecosystem. This is where business meets innovation.
URL:https://cebioforum.com/event/vivatech-2026/
LOCATION:Paris\, Paris\, France
CATEGORIES:FUTURE
ATTACH;FMTTYPE=image/png:https://cebioforum.com/wp-content/uploads/2026/02/viva.png
END:VEVENT
END:VCALENDAR