BEGIN:VCALENDAR
VERSION:2.0
PRODID:-//BioForum - ECPv6.15.13.1//NONSGML v1.0//EN
CALSCALE:GREGORIAN
METHOD:PUBLISH
X-WR-CALNAME:BioForum
X-ORIGINAL-URL:https://cebioforum.com
X-WR-CALDESC:Events for BioForum
REFRESH-INTERVAL;VALUE=DURATION:PT1H
X-Robots-Tag:noindex
X-PUBLISHED-TTL:PT1H
BEGIN:VTIMEZONE
TZID:UTC
BEGIN:STANDARD
TZOFFSETFROM:+0000
TZOFFSETTO:+0000
TZNAME:UTC
DTSTART:20250101T000000
END:STANDARD
END:VTIMEZONE
BEGIN:VEVENT
DTSTART;TZID=UTC:20260615T000000
DTEND;TZID=UTC:20260618T235959
DTSTAMP:20260420T145901
CREATED:20260205T203700Z
LAST-MODIFIED:20260205T203702Z
UID:11955-1781481600-1781827199@cebioforum.com
SUMMARY:HLTH Europe 2026
DESCRIPTION:HLTH Europe 2026\n\n\n\n\n\n\n\n\n\n\n\n\n\nA leading healthcare innovation event in Europe\, bringing together CEOs\, innovators\, tech leaders\, and system change-makers to address digital transformation\, interoperability\, patient engagement\, AI in healthcare\, and strategic partnerships.
URL:https://cebioforum.com/event/hlth-europe-2026/
LOCATION:Amsterdam\, Amsterdam\, Netherlands
CATEGORIES:FUTURE
ATTACH;FMTTYPE=image/jpeg:https://cebioforum.com/wp-content/uploads/2026/02/hlth.jpg
END:VEVENT
END:VCALENDAR