BEGIN:VCALENDAR
VERSION:2.0
PRODID:-//BioForum - ECPv6.15.13.1//NONSGML v1.0//EN
CALSCALE:GREGORIAN
METHOD:PUBLISH
X-ORIGINAL-URL:https://cebioforum.com
X-WR-CALDESC:Events for BioForum
REFRESH-INTERVAL;VALUE=DURATION:PT1H
X-Robots-Tag:noindex
X-PUBLISHED-TTL:PT1H
BEGIN:VTIMEZONE
TZID:UTC
BEGIN:STANDARD
TZOFFSETFROM:+0000
TZOFFSETTO:+0000
TZNAME:UTC
DTSTART:20250101T000000
END:STANDARD
END:VTIMEZONE
BEGIN:VEVENT
DTSTART;TZID=UTC:20260608T000000
DTEND;TZID=UTC:20260611T235959
DTSTAMP:20260420T150042
CREATED:20260205T201808Z
LAST-MODIFIED:20260205T201810Z
UID:11945-1780876800-1781222399@cebioforum.com
SUMMARY:EACR 2026 Congress
DESCRIPTION:EACR 2026 Congress\n\n\n\n\n\n\n\n\n\n\n\n\n\nThe 2026 Annual Congress of the European Association for Cancer Research (EACR 2026) is a four day congress dedicated to basic\, preclinical and translational cancer research across a wide breadth of topics. It will highlight the latest research and bring together the cancer research community to inspire innovation and build knowledge\, connections and collaborations.
URL:https://cebioforum.com/event/eacr-2026-congress/
LOCATION:Budapest\, Budapest\, Hungary
CATEGORIES:FUTURE
ATTACH;FMTTYPE=image/png:https://cebioforum.com/wp-content/uploads/2026/02/eacr.png
END:VEVENT
BEGIN:VEVENT
DTSTART;TZID=UTC:20260608T000000
DTEND;TZID=UTC:20260612T235959
DTSTAMP:20260420T150042
CREATED:20260212T172306Z
LAST-MODIFIED:20260212T172307Z
UID:12074-1780876800-1781308799@cebioforum.com
SUMMARY:Hello Tomorrow Deep Tech Days
DESCRIPTION:Hello Tomorrow Deep Tech Days\n\n\n\n\n\n\n\n\n\nA CROSS-INDUSTRY & INTERNATIONAL COMMUNITY \n\n\n\nOver 80 deep tech startups\, large industrial leaders\, research centres\, international organisations and other ecosystem builders will be exhibiting their products\, services and unique delegations from the deep tech ecosystem. \n\n\n\nAnchor events in 2026 are: \n\n\n\n\nInvestor Day – June 10th\, 2026\n\n\n\nFinancing the Future – June 11th\, 2026\n\n\n\nHello Tomorrow Summit – June 11th-12th\, 2026
URL:https://cebioforum.com/event/hello-tomorrow-deep-tech-days-2/
LOCATION:Amsterdam\, Amsterdam\, Netherlands
CATEGORIES:FUTURE
ATTACH;FMTTYPE=image/png:https://cebioforum.com/wp-content/uploads/2026/02/dtd.png
END:VEVENT
BEGIN:VEVENT
DTSTART;TZID=UTC:20260609T000000
DTEND;TZID=UTC:20260610T235959
DTSTAMP:20260420T150042
CREATED:20260204T200212Z
LAST-MODIFIED:20260204T200214Z
UID:11877-1780963200-1781135999@cebioforum.com
SUMMARY:European Medical Device Summit
DESCRIPTION:European Medical Device Summit\n\n\n\n\n\n\n\n\n\nThe European Medical Device Summit is a leading medtech event in Europe\, offering actionable strategies to advance medical device development\, design\, product development technologies\, and regulatory affairs.
URL:https://cebioforum.com/event/european-medical-device-summit/
LOCATION:Hotel Maritim Düsseldorf\, Düsseldorf\, Germany
CATEGORIES:FUTURE
ATTACH;FMTTYPE=image/webp:https://cebioforum.com/wp-content/uploads/2026/02/emds.webp
END:VEVENT
BEGIN:VEVENT
DTSTART;TZID=UTC:20260609T000000
DTEND;TZID=UTC:20260610T235959
DTSTAMP:20260420T150042
CREATED:20260212T173243Z
LAST-MODIFIED:20260212T173245Z
UID:12082-1780963200-1781135999@cebioforum.com
SUMMARY:London Biotechnology Show
DESCRIPTION:London Biotechnology Show\n\n\n\n\n\n\n\n\n\nThe London Biotech Show is Europe’s flagship biotechnology event\, connecting global leaders across red biotech to accelerate innovation\, partnerships\, and investment shaping the future of healthcare and life sciences.
URL:https://cebioforum.com/event/london-biotechnology-show-2/
LOCATION:London\, London\, United Kingdom
CATEGORIES:FUTURE
ATTACH;FMTTYPE=image/png:https://cebioforum.com/wp-content/uploads/2026/02/lbs.png
END:VEVENT
BEGIN:VEVENT
DTSTART;TZID=UTC:20260610T000000
DTEND;TZID=UTC:20260611T235959
DTSTAMP:20260420T150042
CREATED:20260205T204333Z
LAST-MODIFIED:20260205T204335Z
UID:11958-1781049600-1781222399@cebioforum.com
SUMMARY:Bio Innovations Europe
DESCRIPTION:Bio Innovations Europe\n\n\n\n\n\n\n\n\n\n\n\n\n\nBio Innovations Europe (previously known as World Bio Markets) connects over 500 bio-pioneers through a programme of pre-arranged 1-2-1 meetings\, knowledge exchange\, and networking. The two-day business development event facilitates commercial connections and generates deal flow between bio-developers & producers\, chemical manufacturers\, consumer brands & intermediates\, community enablers\, investors & financiers and suppliers.
URL:https://cebioforum.com/event/bio-innovations-europe/
LOCATION:Hague\, Hague\, Netherlands
CATEGORIES:FUTURE
ATTACH;FMTTYPE=image/png:https://cebioforum.com/wp-content/uploads/2026/02/bie.png
END:VEVENT
END:VCALENDAR