BEGIN:VCALENDAR
VERSION:2.0
PRODID:-//BioForum - ECPv6.15.13.1//NONSGML v1.0//EN
CALSCALE:GREGORIAN
METHOD:PUBLISH
X-WR-CALNAME:BioForum
X-ORIGINAL-URL:https://cebioforum.com
X-WR-CALDESC:Events for BioForum
REFRESH-INTERVAL;VALUE=DURATION:PT1H
X-Robots-Tag:noindex
X-PUBLISHED-TTL:PT1H
BEGIN:VTIMEZONE
TZID:UTC
BEGIN:STANDARD
TZOFFSETFROM:+0000
TZOFFSETTO:+0000
TZNAME:UTC
DTSTART:20250101T000000
END:STANDARD
END:VTIMEZONE
BEGIN:VEVENT
DTSTART;TZID=UTC:20260519T000000
DTEND;TZID=UTC:20260521T235959
DTSTAMP:20260420T145826
CREATED:20260204T211734Z
LAST-MODIFIED:20260204T211736Z
UID:11918-1779148800-1779407999@cebioforum.com
SUMMARY:CDMO Live Europe 2026
DESCRIPTION:CDMO Live Europe 2026\n\n\n\n\n\n\n\n\n\nCDMO Live 2026 is the global meeting place for leaders in outsourced biopharma development and manufacturing. Across three days in Rotterdam\, you’ll gain actionable insights\, connect with partners through curated one-to-one meetings\, and experience networking like no other.
URL:https://cebioforum.com/event/cdmo-live-europe-2026/
LOCATION:ROTTERDAM\, ROTTERDAM\, Netherlands
CATEGORIES:FUTURE
ATTACH;FMTTYPE=image/png:https://cebioforum.com/wp-content/uploads/2026/02/cdmo-1.png
END:VEVENT
BEGIN:VEVENT
DTSTART;TZID=UTC:20260520T000000
DTEND;TZID=UTC:20260521T235959
DTSTAMP:20260420T145826
CREATED:20260205T195235Z
LAST-MODIFIED:20260205T195237Z
UID:11936-1779235200-1779407999@cebioforum.com
SUMMARY:Pharmacovigilance Europe 2026
DESCRIPTION:Pharmacovigilance Europe 2026\n\n\n\n\n\n\n\n\n\n\n\n\n\nAfter witnessing outstanding success in our previous Pharmacovigilance conferences\, Pharmacovigilance Europe 2026 will gather the top notch Industry experts from Pharma/Biotech and Clinical Research Organisations from over 15 countries. This year’s topic is “AI\, Access\, and Accountability: Shaping the Next Era of Pharmacovigilance & Drug Safety”
URL:https://cebioforum.com/event/pharmacovigilance-europe-2026/
LOCATION:London\, London\, United Kingdom
CATEGORIES:FUTURE
ATTACH;FMTTYPE=image/png:https://cebioforum.com/wp-content/uploads/2026/02/pe.png
END:VEVENT
END:VCALENDAR