BEGIN:VCALENDAR
VERSION:2.0
PRODID:-//BioForum - ECPv6.15.13.1//NONSGML v1.0//EN
CALSCALE:GREGORIAN
METHOD:PUBLISH
X-ORIGINAL-URL:https://cebioforum.com
X-WR-CALDESC:Events for BioForum
REFRESH-INTERVAL;VALUE=DURATION:PT1H
X-Robots-Tag:noindex
X-PUBLISHED-TTL:PT1H
BEGIN:VTIMEZONE
TZID:UTC
BEGIN:STANDARD
TZOFFSETFROM:+0000
TZOFFSETTO:+0000
TZNAME:UTC
DTSTART:20250101T000000
END:STANDARD
END:VTIMEZONE
BEGIN:VEVENT
DTSTART;TZID=UTC:20260504T000000
DTEND;TZID=UTC:20260506T235959
DTSTAMP:20260420T133016
CREATED:20260114T150027Z
LAST-MODIFIED:20260114T150028Z
UID:11577-1777852800-1778111999@cebioforum.com
SUMMARY:Bio€quity Europe
DESCRIPTION:Bio€quity Europe 2026\n\n\n\n\n\n\n\n\n\n\n\n\n\nBio€quity Europe is a premier annual conference for the European biopharma industry\, bringing together biotech executives\, investors (VCs)\, pharmaceutical leaders\, and innovators for high-level networking\, partnering\, and discussions on critical trends and challenges in biotech. This is where CEOs and investors connect and tackle the strategic challenges shaping the biotech industry.
URL:https://cebioforum.com/event/bioequity-europe-2/
LOCATION:Prague\, Prague\, Czech Republic
CATEGORIES:FUTURE
ATTACH;FMTTYPE=image/png:https://cebioforum.com/wp-content/uploads/2026/01/bee.png
END:VEVENT
END:VCALENDAR