BEGIN:VCALENDAR
VERSION:2.0
PRODID:-//BioForum - ECPv6.15.13.1//NONSGML v1.0//EN
CALSCALE:GREGORIAN
METHOD:PUBLISH
X-ORIGINAL-URL:https://cebioforum.com
X-WR-CALDESC:Events for BioForum
REFRESH-INTERVAL;VALUE=DURATION:PT1H
X-Robots-Tag:noindex
X-PUBLISHED-TTL:PT1H
BEGIN:VTIMEZONE
TZID:UTC
BEGIN:STANDARD
TZOFFSETFROM:+0000
TZOFFSETTO:+0000
TZNAME:UTC
DTSTART:20250101T000000
END:STANDARD
END:VTIMEZONE
BEGIN:VEVENT
DTSTART;TZID=UTC:20260316T000000
DTEND;TZID=UTC:20260318T235959
DTSTAMP:20260420T133033
CREATED:20260204T203151Z
LAST-MODIFIED:20260326T083153Z
UID:11893-1773619200-1773878399@cebioforum.com
SUMMARY:ESMO TAT Congress 2026
DESCRIPTION:ESMO Targeted Anticancer Therapies Congress 2026\n\n\n\n\n\n\n\n\n\nThe journey of innovation in cancer treatment begins with early drug development. ESMO TAT serves as a dynamic\, multi-stakeholder forum\, uniting researchers\, industry leaders\, investors and regulators under one roof to accelerate the delivery of life-changing anticancer therapies to patients.
URL:https://cebioforum.com/event/esmo-tat-congress-2026/
LOCATION:Paris\, Paris\, France
CATEGORIES:PAST
ATTACH;FMTTYPE=image/webp:https://cebioforum.com/wp-content/uploads/2026/02/esmo.webp
END:VEVENT
BEGIN:VEVENT
DTSTART;TZID=UTC:20260317T000000
DTEND;TZID=UTC:20260318T235959
DTSTAMP:20260420T133033
CREATED:20260204T205424Z
LAST-MODIFIED:20260326T083220Z
UID:11901-1773705600-1773878399@cebioforum.com
SUMMARY:Advanced Therapies UK 2026
DESCRIPTION:Advanced Therapies UK 2026\n\n\n\n\n\n\n\n\n\nThe Advanced Therapies Congress is Europe’s largest commercial cell and gene therapy conference and exhibition. The event is for the leaders of pioneering ATMP companies and their most senior executives in charge of the latest tech and strategies that are driving the industry forward.
URL:https://cebioforum.com/event/advanced-therapies-uk-2026/
LOCATION:ExCeL\, London\, United Kingdom
CATEGORIES:PAST
ATTACH;FMTTYPE=image/webp:https://cebioforum.com/wp-content/uploads/2026/02/at.webp
END:VEVENT
END:VCALENDAR