BEGIN:VCALENDAR
VERSION:2.0
PRODID:-//BioForum - ECPv6.15.13.1//NONSGML v1.0//EN
CALSCALE:GREGORIAN
METHOD:PUBLISH
X-WR-CALNAME:BioForum
X-ORIGINAL-URL:https://cebioforum.com
X-WR-CALDESC:Events for BioForum
REFRESH-INTERVAL;VALUE=DURATION:PT1H
X-Robots-Tag:noindex
X-PUBLISHED-TTL:PT1H
BEGIN:VTIMEZONE
TZID:UTC
BEGIN:STANDARD
TZOFFSETFROM:+0000
TZOFFSETTO:+0000
TZNAME:UTC
DTSTART:20250101T000000
END:STANDARD
END:VTIMEZONE
BEGIN:VEVENT
DTSTART;TZID=UTC:20260303T000000
DTEND;TZID=UTC:20260305T235959
DTSTAMP:20260420T133337
CREATED:20260204T195407Z
LAST-MODIFIED:20260326T083126Z
UID:11864-1772496000-1772755199@cebioforum.com
SUMMARY:Health Tech Global Summit
DESCRIPTION:Health Tech Global Summit\n\n\n\n\n\n\n\n\n\nhealth.tech global summit is for senior decision-makers across health systems\, pharma\, startups\, public sector\, and academia\, renowned for its content-driven approach and commitment to delivering the best possible insights. Focused on moving from insight to action\, it’s where strategy meets execution.
URL:https://cebioforum.com/event/health-tech-global-summit/
LOCATION:Basel\, Basel\, Switzerland
CATEGORIES:PAST
ATTACH;FMTTYPE=image/jpeg:https://cebioforum.com/wp-content/uploads/2026/02/htgs.jpg
END:VEVENT
END:VCALENDAR