BEGIN:VCALENDAR
VERSION:2.0
PRODID:-//BioForum - ECPv6.15.13.1//NONSGML v1.0//EN
CALSCALE:GREGORIAN
METHOD:PUBLISH
X-WR-CALNAME:BioForum
X-ORIGINAL-URL:https://cebioforum.com
X-WR-CALDESC:Events for BioForum
REFRESH-INTERVAL;VALUE=DURATION:PT1H
X-Robots-Tag:noindex
X-PUBLISHED-TTL:PT1H
BEGIN:VTIMEZONE
TZID:UTC
BEGIN:STANDARD
TZOFFSETFROM:+0000
TZOFFSETTO:+0000
TZNAME:UTC
DTSTART:20240101T000000
END:STANDARD
END:VTIMEZONE
BEGIN:VEVENT
DTSTART;TZID=UTC:20251021T000000
DTEND;TZID=UTC:20251022T235959
DTSTAMP:20260422T173825
CREATED:20250129T224604Z
LAST-MODIFIED:20251030T102501Z
UID:9366-1761004800-1761177599@cebioforum.com
SUMMARY:Drug Discovery 2025
DESCRIPTION:Drug Discovery 2025\n\n\n\n\n\n\n\n\n\n\n\n\n\nELRIG Drug Discovery 2025 is Europe’s largest conference for the drug discovery community\, offering a dynamic platform to explore scientific advancements and connect with industry and academic leaders. The event features a comprehensive program of scientific tracks and an exhibition hall showcasing over 200 suppliers\, providing attendees with access to the latest products and services in drug discovery.
URL:https://cebioforum.com/event/drug-discovery-2025/
LOCATION:Liverpool\, Liverpool\, United Kingdom
CATEGORIES:PAST
ATTACH;FMTTYPE=image/png:https://cebioforum.com/wp-content/uploads/2025/01/Drug-Discovery-2025-ELRIG.png
END:VEVENT
BEGIN:VEVENT
DTSTART;TZID=UTC:20251022T000000
DTEND;TZID=UTC:20251022T235959
DTSTAMP:20260422T173825
CREATED:20250610T204809Z
LAST-MODIFIED:20251030T102619Z
UID:10682-1761091200-1761177599@cebioforum.com
SUMMARY:GreenBio Forum 2025
DESCRIPTION:GreenBio Forum 2025\n\n\n\n\n\n\n\n\n\n\n\nGreenBio Forum 2025 to druga edycja kluczowej konferencji gromadzącej ekspertów\, naukowców oraz liderów branży\, której celem jest poszukiwanie biotechnologicznych rozwiązań na rzecz zrównoważonego rozwoju. Wydarzenie to stanowi wyjątkową okazję do poznania najnowszych innowacji w zakresie biogospodarki\, nawiązania strategicznych partnerstw oraz dyskusji na temat przyszłości polskiego sektora w obliczu globalnych wyzwań klimatycznych i gospodarczych. \n\n\n\nTematy przewodnie konferencji\n\n\n\n🌱 Novel Food i alternatywne źródła białka \n\n\n\n🧬 Zagospodarowanie odpadów i technologie przemysłowe \n\n\n\n🌍 Rolnictwo regeneratywne – innowacje napędzające rozwój całego sektora
URL:https://cebioforum.com/event/greenbio-forum-2025/
LOCATION:Cambridge Innovation Centre – CIC Warsaw\, Chmielna 73\, Warsaw\, Poland
CATEGORIES:PAST
ATTACH;FMTTYPE=image/png:https://cebioforum.com/wp-content/uploads/2025/06/GreenBio-2025-banner.png
END:VEVENT
END:VCALENDAR